BEGIN:VCALENDAR
VERSION:2.0
PRODID:-//My So-Called Band - ECPv6.15.20//NONSGML v1.0//EN
CALSCALE:GREGORIAN
METHOD:PUBLISH
X-ORIGINAL-URL:https://mysocalledbandnorcal.com
X-WR-CALDESC:Events for My So-Called Band
REFRESH-INTERVAL;VALUE=DURATION:PT1H
X-Robots-Tag:noindex
X-PUBLISHED-TTL:PT1H
BEGIN:VTIMEZONE
TZID:America/Los_Angeles
BEGIN:DAYLIGHT
TZOFFSETFROM:-0800
TZOFFSETTO:-0700
TZNAME:PDT
DTSTART:20250309T100000
END:DAYLIGHT
BEGIN:STANDARD
TZOFFSETFROM:-0700
TZOFFSETTO:-0800
TZNAME:PST
DTSTART:20251102T090000
END:STANDARD
BEGIN:DAYLIGHT
TZOFFSETFROM:-0800
TZOFFSETTO:-0700
TZNAME:PDT
DTSTART:20260308T100000
END:DAYLIGHT
BEGIN:STANDARD
TZOFFSETFROM:-0700
TZOFFSETTO:-0800
TZNAME:PST
DTSTART:20261101T090000
END:STANDARD
BEGIN:DAYLIGHT
TZOFFSETFROM:-0800
TZOFFSETTO:-0700
TZNAME:PDT
DTSTART:20270314T100000
END:DAYLIGHT
BEGIN:STANDARD
TZOFFSETFROM:-0700
TZOFFSETTO:-0800
TZNAME:PST
DTSTART:20271107T090000
END:STANDARD
END:VTIMEZONE
BEGIN:VEVENT
DTSTART;TZID=America/Los_Angeles:20260220T190000
DTEND;TZID=America/Los_Angeles:20260220T220000
DTSTAMP:20260423T132522
CREATED:20251101T235500Z
LAST-MODIFIED:20251101T235500Z
UID:731-1771614000-1771624800@mysocalledbandnorcal.com
SUMMARY:Live at True Symmetry Brewing Co
DESCRIPTION:
URL:https://mysocalledbandnorcal.com/show/live-at-true-symmetry-brewing-co/
LOCATION:True Symmetry Brewing Company\, 315 Marina Center\, Suisun City\, CA\, 94585\, United States
END:VEVENT
END:VCALENDAR