BEGIN:VCALENDAR
VERSION:2.0
PRODID:-//My So-Called Band - ECPv6.15.20//NONSGML v1.0//EN
CALSCALE:GREGORIAN
METHOD:PUBLISH
X-WR-CALNAME:My So-Called Band
X-ORIGINAL-URL:https://mysocalledbandnorcal.com
X-WR-CALDESC:Events for My So-Called Band
REFRESH-INTERVAL;VALUE=DURATION:PT1H
X-Robots-Tag:noindex
X-PUBLISHED-TTL:PT1H
BEGIN:VTIMEZONE
TZID:America/Los_Angeles
BEGIN:DAYLIGHT
TZOFFSETFROM:-0800
TZOFFSETTO:-0700
TZNAME:PDT
DTSTART:20250309T100000
END:DAYLIGHT
BEGIN:STANDARD
TZOFFSETFROM:-0700
TZOFFSETTO:-0800
TZNAME:PST
DTSTART:20251102T090000
END:STANDARD
BEGIN:DAYLIGHT
TZOFFSETFROM:-0800
TZOFFSETTO:-0700
TZNAME:PDT
DTSTART:20260308T100000
END:DAYLIGHT
BEGIN:STANDARD
TZOFFSETFROM:-0700
TZOFFSETTO:-0800
TZNAME:PST
DTSTART:20261101T090000
END:STANDARD
BEGIN:DAYLIGHT
TZOFFSETFROM:-0800
TZOFFSETTO:-0700
TZNAME:PDT
DTSTART:20270314T100000
END:DAYLIGHT
BEGIN:STANDARD
TZOFFSETFROM:-0700
TZOFFSETTO:-0800
TZNAME:PST
DTSTART:20271107T090000
END:STANDARD
END:VTIMEZONE
BEGIN:VEVENT
DTSTART;TZID=America/Los_Angeles:20260117T220000
DTEND;TZID=America/Los_Angeles:20260118T013000
DTSTAMP:20260423T151302
CREATED:20241221T175330Z
LAST-MODIFIED:20260109T222506Z
UID:603-1768687200-1768699800@mysocalledbandnorcal.com
SUMMARY:Live at Maggie McGarry's
DESCRIPTION:Show invite
URL:https://mysocalledbandnorcal.com/show/live-at-maggie-mcgarrys-2/
LOCATION:Maggie McGarry’s Irish Pub\, 1353 Grant Avenue\, San Francisco\, CA\, 94133\, United States
END:VEVENT
END:VCALENDAR