BEGIN:VCALENDAR
VERSION:2.0
PRODID:-//My So-Called Band - ECPv6.15.20//NONSGML v1.0//EN
CALSCALE:GREGORIAN
METHOD:PUBLISH
X-WR-CALNAME:My So-Called Band
X-ORIGINAL-URL:https://mysocalledbandnorcal.com
X-WR-CALDESC:Events for My So-Called Band
REFRESH-INTERVAL;VALUE=DURATION:PT1H
X-Robots-Tag:noindex
X-PUBLISHED-TTL:PT1H
BEGIN:VTIMEZONE
TZID:America/Los_Angeles
BEGIN:DAYLIGHT
TZOFFSETFROM:-0800
TZOFFSETTO:-0700
TZNAME:PDT
DTSTART:20230312T100000
END:DAYLIGHT
BEGIN:STANDARD
TZOFFSETFROM:-0700
TZOFFSETTO:-0800
TZNAME:PST
DTSTART:20231105T090000
END:STANDARD
BEGIN:DAYLIGHT
TZOFFSETFROM:-0800
TZOFFSETTO:-0700
TZNAME:PDT
DTSTART:20240310T100000
END:DAYLIGHT
BEGIN:STANDARD
TZOFFSETFROM:-0700
TZOFFSETTO:-0800
TZNAME:PST
DTSTART:20241103T090000
END:STANDARD
BEGIN:DAYLIGHT
TZOFFSETFROM:-0800
TZOFFSETTO:-0700
TZNAME:PDT
DTSTART:20250309T100000
END:DAYLIGHT
BEGIN:STANDARD
TZOFFSETFROM:-0700
TZOFFSETTO:-0800
TZNAME:PST
DTSTART:20251102T090000
END:STANDARD
END:VTIMEZONE
BEGIN:VEVENT
DTSTART;TZID=America/Los_Angeles:20240816T203000
DTEND;TZID=America/Los_Angeles:20240817T000000
DTSTAMP:20260424T203114
CREATED:20240215T091721Z
LAST-MODIFIED:20240502T032135Z
UID:462-1723840200-1723852800@mysocalledbandnorcal.com
SUMMARY:Live at The Relik Tavern
DESCRIPTION:
URL:https://mysocalledbandnorcal.com/show/live-at-the-relik-tavern/
LOCATION:The Rellik Tavern\, 726 1st Street\, Benicia\, CA\, 94510\, United States
END:VEVENT
BEGIN:VEVENT
DTSTART;TZID=America/Los_Angeles:20240824T180000
DTEND;TZID=America/Los_Angeles:20240824T200000
DTSTAMP:20260424T203114
CREATED:20240501T103536Z
LAST-MODIFIED:20240502T032123Z
UID:546-1724522400-1724529600@mysocalledbandnorcal.com
SUMMARY:Summer Beats Festival 2024
DESCRIPTION:Building on the Northgate tradition of offering a free concert series to the local community\, this year\, Ounces Outdoors has partnered with Northgate to make this year’s concert series even better.  Summer Beats Festival 2024 is a month-long celebration of music and community and will be held every Saturday between 4PM and 8PM for the month of August and offers the local community free live music\, a kids zone hosted by local businesses\, ice cream and treats\, and an artisan fair.
URL:https://mysocalledbandnorcal.com/show/summer-beats-festival-2024/
LOCATION:Ounces Outdoors\, 5800 Northgate Drive\, San Rafael\, CA\, 94903\, United States
END:VEVENT
END:VCALENDAR