BEGIN:VCALENDAR
VERSION:2.0
PRODID:-//My So-Called Band - ECPv6.15.20//NONSGML v1.0//EN
CALSCALE:GREGORIAN
METHOD:PUBLISH
X-WR-CALNAME:My So-Called Band
X-ORIGINAL-URL:https://mysocalledbandnorcal.com
X-WR-CALDESC:Events for My So-Called Band
REFRESH-INTERVAL;VALUE=DURATION:PT1H
X-Robots-Tag:noindex
X-PUBLISHED-TTL:PT1H
BEGIN:VTIMEZONE
TZID:UTC
BEGIN:STANDARD
TZOFFSETFROM:+0000
TZOFFSETTO:+0000
TZNAME:UTC
DTSTART:20220101T000000
END:STANDARD
END:VTIMEZONE
BEGIN:VEVENT
DTSTART;TZID=UTC:20230611T160000
DTEND;TZID=UTC:20230611T180000
DTSTAMP:20260424T003002
CREATED:20230331T224448Z
LAST-MODIFIED:20230401T141317Z
UID:58-1686499200-1686506400@mysocalledbandnorcal.com
SUMMARY:Live at Mike Hess - Walnut Creek
DESCRIPTION:Mike Hess Brewery provides the perfect setting for this 90s band. With plenty of space to dance and mingle\, you can enjoy a delicious craft beer while jamming out to your favorite 90s tunes. The industrial-chic decor of the brewery complements the edgy sound of the band\, making for a truly unforgettable night.
URL:https://mysocalledbandnorcal.com/show/live-at-mike-hess-walnut-creek/
LOCATION:Mike Hess Brewing\, 2313 Oak Grove Road\, Walnut Creek\, CA\, United States
END:VEVENT
BEGIN:VEVENT
DTSTART;TZID=UTC:20230608T180000
DTEND;TZID=UTC:20230608T220000
DTSTAMP:20260424T003002
CREATED:20230529T213258Z
LAST-MODIFIED:20230529T213258Z
UID:196-1686247200-1686261600@mysocalledbandnorcal.com
SUMMARY:Live at Retro Junkie
DESCRIPTION:
URL:https://mysocalledbandnorcal.com/show/live-at-retro-junkie/
LOCATION:Retro Junkie\, 2112 N Main Street\, Walnut Creek\, CA\, 94597\, United States
END:VEVENT
BEGIN:VEVENT
DTSTART;TZID=UTC:20230519T210000
DTEND;TZID=UTC:20230520T010000
DTSTAMP:20260424T003002
CREATED:20230427T015537Z
LAST-MODIFIED:20230427T015836Z
UID:187-1684530000-1684544400@mysocalledbandnorcal.com
SUMMARY:Live at The Roundup in Lafeyette\, CA
DESCRIPTION:
URL:https://mysocalledbandnorcal.com/show/live-at-the-roundup-in-lafeyette/
LOCATION:Round Up Saloon\, 3553 Mount Diablo Blvd\, Lafayette\, CA\, 94549\, United States
END:VEVENT
END:VCALENDAR