BEGIN:VCALENDAR
VERSION:2.0
PRODID:-//My So-Called Band - ECPv6.15.20//NONSGML v1.0//EN
CALSCALE:GREGORIAN
METHOD:PUBLISH
X-WR-CALNAME:My So-Called Band
X-ORIGINAL-URL:https://mysocalledbandnorcal.com
X-WR-CALDESC:Events for My So-Called Band
REFRESH-INTERVAL;VALUE=DURATION:PT1H
X-Robots-Tag:noindex
X-PUBLISHED-TTL:PT1H
BEGIN:VTIMEZONE
TZID:America/Los_Angeles
BEGIN:DAYLIGHT
TZOFFSETFROM:-0800
TZOFFSETTO:-0700
TZNAME:PDT
DTSTART:20250309T100000
END:DAYLIGHT
BEGIN:STANDARD
TZOFFSETFROM:-0700
TZOFFSETTO:-0800
TZNAME:PST
DTSTART:20251102T090000
END:STANDARD
BEGIN:DAYLIGHT
TZOFFSETFROM:-0800
TZOFFSETTO:-0700
TZNAME:PDT
DTSTART:20260308T100000
END:DAYLIGHT
BEGIN:STANDARD
TZOFFSETFROM:-0700
TZOFFSETTO:-0800
TZNAME:PST
DTSTART:20261101T090000
END:STANDARD
BEGIN:DAYLIGHT
TZOFFSETFROM:-0800
TZOFFSETTO:-0700
TZNAME:PDT
DTSTART:20270314T100000
END:DAYLIGHT
BEGIN:STANDARD
TZOFFSETFROM:-0700
TZOFFSETTO:-0800
TZNAME:PST
DTSTART:20271107T090000
END:STANDARD
END:VTIMEZONE
BEGIN:VEVENT
DTSTART;TZID=America/Los_Angeles:20260502T190000
DTEND;TZID=America/Los_Angeles:20260502T220000
DTSTAMP:20260425T204648
CREATED:20260318T054857Z
LAST-MODIFIED:20260318T054857Z
UID:760-1777748400-1777759200@mysocalledbandnorcal.com
SUMMARY:Oak Grove Swim Club (Private Event)
DESCRIPTION:
URL:https://mysocalledbandnorcal.com/show/oak-grove-swim-club-private-event-2/
LOCATION:CA
END:VEVENT
BEGIN:VEVENT
DTSTART;TZID=America/Los_Angeles:20260522T213000
DTEND;TZID=America/Los_Angeles:20260523T013000
DTSTAMP:20260425T204648
CREATED:20260128T191121Z
LAST-MODIFIED:20260128T191121Z
UID:747-1779485400-1779499800@mysocalledbandnorcal.com
SUMMARY:Live at Meenar
DESCRIPTION:
URL:https://mysocalledbandnorcal.com/show/live-at-meenar/
LOCATION:Meenar Music Club\, 349 Hartz Ave #3307\, Danville\, CA\, 94526\, United States
END:VEVENT
BEGIN:VEVENT
DTSTART;TZID=America/Los_Angeles:20260725T183000
DTEND;TZID=America/Los_Angeles:20260725T213000
DTSTAMP:20260425T204648
CREATED:20260206T014210Z
LAST-MODIFIED:20260206T014253Z
UID:752-1785004200-1785015000@mysocalledbandnorcal.com
SUMMARY:Live at Del Cielo Brewing Co.
DESCRIPTION:
URL:https://mysocalledbandnorcal.com/show/live-at-del-cielo-brewing-co/
LOCATION:Del Cielo Brewing Co.\, 701 Escobar Street\, Martinez\, CA\, 94553\, United States
END:VEVENT
BEGIN:VEVENT
DTSTART;TZID=America/Los_Angeles:20260815T193000
DTEND;TZID=America/Los_Angeles:20260815T210000
DTSTAMP:20260425T204648
CREATED:20260422T195219Z
LAST-MODIFIED:20260426T004524Z
UID:763-1786822200-1786827600@mysocalledbandnorcal.com
SUMMARY:Live at Retro Junkie w/ Linkin Park Experience
DESCRIPTION:
URL:https://mysocalledbandnorcal.com/show/live-at-retro-junkie-4/
LOCATION:Retro Junkie\, 2112 N Main Street\, Walnut Creek\, CA\, 94597\, United States
END:VEVENT
BEGIN:VEVENT
DTSTART;TZID=America/Los_Angeles:20260919T140000
DTEND;TZID=America/Los_Angeles:20260919T170000
DTSTAMP:20260425T204648
CREATED:20260426T004655Z
LAST-MODIFIED:20260426T004922Z
UID:766-1789826400-1789837200@mysocalledbandnorcal.com
SUMMARY:Live at Headlands Brewing Walnut Creek
DESCRIPTION:
URL:https://mysocalledbandnorcal.com/show/live-at-headlands-brewing-walnut-creek/
LOCATION:Headlands Brewing Walnut Creek\, 2999 Oak Road Suite A\, Walnut Creek\, CA\, 94597\, United States
END:VEVENT
BEGIN:VEVENT
DTSTART;TZID=America/Los_Angeles:20261114T220000
DTEND;TZID=America/Los_Angeles:20261115T013000
DTSTAMP:20260425T204648
CREATED:20260218T185606Z
LAST-MODIFIED:20260218T185606Z
UID:756-1794693600-1794706200@mysocalledbandnorcal.com
SUMMARY:Live at Maggie McGarry's
DESCRIPTION:
URL:https://mysocalledbandnorcal.com/show/live-at-maggie-mcgarrys-3/
LOCATION:Maggie McGarry’s Irish Pub\, 1353 Grant Avenue\, San Francisco\, CA\, 94133\, United States
END:VEVENT
END:VCALENDAR