BEGIN:VCALENDAR
VERSION:2.0
PRODID:-//My So-Called Band - ECPv6.15.20//NONSGML v1.0//EN
CALSCALE:GREGORIAN
METHOD:PUBLISH
X-WR-CALNAME:My So-Called Band
X-ORIGINAL-URL:https://mysocalledbandnorcal.com
X-WR-CALDESC:Events for My So-Called Band
REFRESH-INTERVAL;VALUE=DURATION:PT1H
X-Robots-Tag:noindex
X-PUBLISHED-TTL:PT1H
BEGIN:VTIMEZONE
TZID:America/Los_Angeles
BEGIN:DAYLIGHT
TZOFFSETFROM:-0800
TZOFFSETTO:-0700
TZNAME:PDT
DTSTART:20240310T100000
END:DAYLIGHT
BEGIN:STANDARD
TZOFFSETFROM:-0700
TZOFFSETTO:-0800
TZNAME:PST
DTSTART:20241103T090000
END:STANDARD
BEGIN:DAYLIGHT
TZOFFSETFROM:-0800
TZOFFSETTO:-0700
TZNAME:PDT
DTSTART:20250309T100000
END:DAYLIGHT
BEGIN:STANDARD
TZOFFSETFROM:-0700
TZOFFSETTO:-0800
TZNAME:PST
DTSTART:20251102T090000
END:STANDARD
BEGIN:DAYLIGHT
TZOFFSETFROM:-0800
TZOFFSETTO:-0700
TZNAME:PDT
DTSTART:20260308T100000
END:DAYLIGHT
BEGIN:STANDARD
TZOFFSETFROM:-0700
TZOFFSETTO:-0800
TZNAME:PST
DTSTART:20261101T090000
END:STANDARD
END:VTIMEZONE
BEGIN:VEVENT
DTSTART;TZID=America/Los_Angeles:20250927T153000
DTEND;TZID=America/Los_Angeles:20250927T200000
DTSTAMP:20260423T234925
CREATED:20250424T194640Z
LAST-MODIFIED:20250915T163056Z
UID:705-1758987000-1759003200@mysocalledbandnorcal.com
SUMMARY:OKTÖBERHESS 2025
DESCRIPTION:
URL:https://mysocalledbandnorcal.com/show/oktoberhess-2025/
LOCATION:Mike Hess Brewing\, 2313 Oak Grove Road\, Walnut Creek\, CA\, United States
END:VEVENT
END:VCALENDAR